BEGIN:VCALENDAR
VERSION:2.0
PRODID:-//eventon.com NONSGML v1.0//EN
CALSCALE:GREGORIAN
METHOD:PUBLISH
BEGIN:VEVENT
UID:69e638e1f0c58
DTSTAMP:20260420T143201Z
DTSTART:20240629T090000Z
DTEND:20240629T170000Z
LOCATION:
SUMMARY:Curso de Restauración de Crédito Fort Lee\,  NJ
DESCRIPTION:Curso de Restauración de Crédito Fort Lee\,  NJ\nhttps://acad
 emycreditadvance.com/events/curso-de-restauracion-de-credito-fort-lee-nj/
URL:https://academycreditadvance.com/events/curso-de-restauracion-de-credito-fort-lee-nj/
END:VEVENT
END:VCALENDAR